BEGIN:VCALENDAR
VERSION:2.0
PRODID:-//CiviCRM//NONSGML CiviEvent iCal//EN
X-WR-TIMEZONE:America/Toronto
METHOD:PUBLISH
BEGIN:VTIMEZONE
TZID:America/Toronto
BEGIN:DAYLIGHT
TZOFFSETFROM:-0400
TZOFFSETTO:-0400
TZNAME:EDT
DTSTART:20260503T093000
END:DAYLIGHT
END:VTIMEZONE
BEGIN:VEVENT
UID:CiviCRM_ClassID_1004706_294178b767edb0086d5fce7338826ac2@torahinmotion.org
SUMMARY:Welcome and Personally Impacted Speaker
X-ALT-DESC;FMTTYPE=text/html:<!DOCTYPE HTML PUBLIC
  "-//W3C//DTD HTML 3.2//EN"><html><body>2026 Copin
 g and Resilience: Thriving in a Tough Environment:
  https://torahinmotion.org/programs/2026-coping-an
 d-resilience-thriving-in-a-tough-environment</body
 ></html>
DESCRIPTION:2026 Coping and Resilience: Thriving in a Tough En
 vironment: https://torahinmotion.org/programs/2026
 -coping-and-resilience-thriving-in-a-tough-environ
 ment
CALSCALE:GREGORIAN
DTSTAMP;TZID=America/Toronto:20260503T093000
DTSTART;TZID=America/Toronto:20260503T093000
DTEND;TZID=America/Toronto:20260503T100000
URL:https://torahinmotion.org/programs/2026-coping-and-resilience-thriving-in-a-tough-environment
END:VEVENT
BEGIN:VEVENT
UID:CiviCRM_ClassID_1004707_294178b767edb0086d5fce7338826ac2@torahinmotion.org
SUMMARY:Comprehensive Care Programs For Israel in the Wake
  of War
X-ALT-DESC;FMTTYPE=text/html:<!DOCTYPE HTML PUBLIC
  "-//W3C//DTD HTML 3.2//EN"><html><body>2026 Copin
 g and Resilience: Thriving in a Tough Environment:
  https://torahinmotion.org/programs/2026-coping-an
 d-resilience-thriving-in-a-tough-environment</body
 ></html>
DESCRIPTION:2026 Coping and Resilience: Thriving in a Tough En
 vironment: https://torahinmotion.org/programs/2026
 -coping-and-resilience-thriving-in-a-tough-environ
 ment
CALSCALE:GREGORIAN
DTSTAMP;TZID=America/Toronto:20260503T100000
DTSTART;TZID=America/Toronto:20260503T100000
DTEND;TZID=America/Toronto:20260503T104500
URL:https://torahinmotion.org/programs/2026-coping-and-resilience-thriving-in-a-tough-environment
END:VEVENT
BEGIN:VEVENT
UID:CiviCRM_ClassID_1004708_294178b767edb0086d5fce7338826ac2@torahinmotion.org
SUMMARY:Who am I? Cultural Identity and Personal Persisten
 ce as Sources of Resilience
X-ALT-DESC;FMTTYPE=text/html:<!DOCTYPE HTML PUBLIC
  "-//W3C//DTD HTML 3.2//EN"><html><body>2026 Copin
 g and Resilience: Thriving in a Tough Environment:
  https://torahinmotion.org/programs/2026-coping-an
 d-resilience-thriving-in-a-tough-environment</body
 ></html>
DESCRIPTION:2026 Coping and Resilience: Thriving in a Tough En
 vironment: https://torahinmotion.org/programs/2026
 -coping-and-resilience-thriving-in-a-tough-environ
 ment
CALSCALE:GREGORIAN
DTSTAMP;TZID=America/Toronto:20260503T104500
DTSTART;TZID=America/Toronto:20260503T104500
DTEND;TZID=America/Toronto:20260503T113000
URL:https://torahinmotion.org/programs/2026-coping-and-resilience-thriving-in-a-tough-environment
END:VEVENT
BEGIN:VEVENT
UID:CiviCRM_ClassID_1004709_294178b767edb0086d5fce7338826ac2@torahinmotion.org
SUMMARY:Staying Connected in Times of Stress: Perspectives
  on Coping & Resilience in Relationships
X-ALT-DESC;FMTTYPE=text/html:<!DOCTYPE HTML PUBLIC
  "-//W3C//DTD HTML 3.2//EN"><html><body>2026 Copin
 g and Resilience: Thriving in a Tough Environment:
  https://torahinmotion.org/programs/2026-coping-an
 d-resilience-thriving-in-a-tough-environment</body
 ></html>
DESCRIPTION:2026 Coping and Resilience: Thriving in a Tough En
 vironment: https://torahinmotion.org/programs/2026
 -coping-and-resilience-thriving-in-a-tough-environ
 ment
CALSCALE:GREGORIAN
DTSTAMP;TZID=America/Toronto:20260503T113000
DTSTART;TZID=America/Toronto:20260503T113000
DTEND;TZID=America/Toronto:20260503T121500
URL:https://torahinmotion.org/programs/2026-coping-and-resilience-thriving-in-a-tough-environment
END:VEVENT
BEGIN:VEVENT
UID:CiviCRM_ClassID_1004710_294178b767edb0086d5fce7338826ac2@torahinmotion.org
SUMMARY:Digital Dependence: Understanding Technology Addic
 tion
X-ALT-DESC;FMTTYPE=text/html:<!DOCTYPE HTML PUBLIC
  "-//W3C//DTD HTML 3.2//EN"><html><body>2026 Copin
 g and Resilience: Thriving in a Tough Environment:
  https://torahinmotion.org/programs/2026-coping-an
 d-resilience-thriving-in-a-tough-environment</body
 ></html>
DESCRIPTION:2026 Coping and Resilience: Thriving in a Tough En
 vironment: https://torahinmotion.org/programs/2026
 -coping-and-resilience-thriving-in-a-tough-environ
 ment
CALSCALE:GREGORIAN
DTSTAMP;TZID=America/Toronto:20260503T121500
DTSTART;TZID=America/Toronto:20260503T121500
DTEND;TZID=America/Toronto:20260503T130000
URL:https://torahinmotion.org/programs/2026-coping-and-resilience-thriving-in-a-tough-environment
END:VEVENT
BEGIN:VEVENT
UID:CiviCRM_ClassID_1004711_294178b767edb0086d5fce7338826ac2@torahinmotion.org
SUMMARY:What we Carry Forward: Jewish Pathways to Resilien
 ce
X-ALT-DESC;FMTTYPE=text/html:<!DOCTYPE HTML PUBLIC
  "-//W3C//DTD HTML 3.2//EN"><html><body>2026 Copin
 g and Resilience: Thriving in a Tough Environment:
  https://torahinmotion.org/programs/2026-coping-an
 d-resilience-thriving-in-a-tough-environment</body
 ></html>
DESCRIPTION:2026 Coping and Resilience: Thriving in a Tough En
 vironment: https://torahinmotion.org/programs/2026
 -coping-and-resilience-thriving-in-a-tough-environ
 ment
CALSCALE:GREGORIAN
DTSTAMP;TZID=America/Toronto:20260503T131500
DTSTART;TZID=America/Toronto:20260503T131500
DTEND;TZID=America/Toronto:20260503T140000
URL:https://torahinmotion.org/programs/2026-coping-and-resilience-thriving-in-a-tough-environment
END:VEVENT
BEGIN:VEVENT
UID:CiviCRM_ClassID_1004712_294178b767edb0086d5fce7338826ac2@torahinmotion.org
SUMMARY:From Concern to Conversation: Navigating my Child'
 s Mental Health
X-ALT-DESC;FMTTYPE=text/html:<!DOCTYPE HTML PUBLIC
  "-//W3C//DTD HTML 3.2//EN"><html><body>2026 Copin
 g and Resilience: Thriving in a Tough Environment:
  https://torahinmotion.org/programs/2026-coping-an
 d-resilience-thriving-in-a-tough-environment</body
 ></html>
DESCRIPTION:2026 Coping and Resilience: Thriving in a Tough En
 vironment: https://torahinmotion.org/programs/2026
 -coping-and-resilience-thriving-in-a-tough-environ
 ment
CALSCALE:GREGORIAN
DTSTAMP;TZID=America/Toronto:20260503T140000
DTSTART;TZID=America/Toronto:20260503T140000
DTEND;TZID=America/Toronto:20260503T144500
URL:https://torahinmotion.org/programs/2026-coping-and-resilience-thriving-in-a-tough-environment
END:VEVENT
END:VCALENDAR
